BEGIN:VCALENDAR
VERSION:2.0
PRODID:-//Wisconsin Chapter of the American College of Healthcare Executives - ECPv4.6.15//NONSGML v1.0//EN
CALSCALE:GREGORIAN
METHOD:PUBLISH
X-WR-CALNAME:Wisconsin Chapter of the American College of Healthcare Executives
X-ORIGINAL-URL:http://wisconsin.ache.org
X-WR-CALDESC:Events for Wisconsin Chapter of the American College of Healthcare Executives
BEGIN:VEVENT
DTSTART;VALUE=DATE:20200122
DTEND;VALUE=DATE:20200125
DTSTAMP:20260423T202149
CREATED:20191211T205415Z
LAST-MODIFIED:20191211T205522Z
UID:2687-1579651200-1579910399@wisconsin.ache.org
SUMMARY:2020 Mega Healthcare Conference
DESCRIPTION:The 2020 Mega Conference is a tremendous educational opportunity for Accounting\, Billing\, CEO\, CFO\, Clinic Office Managers\, Coding\, Collections\, Compliance Officers\, Customer Service\, Directors of Patient Accounts\, Patient Accounts Managers\, Finance\, IT Staff\, Materials Managers\, Privacy Officers\, Registration\, and many others. \nIt allows you to network with fellow associates\, learn from industry speakers\, and meet business associates from many different industries. This will be the ninth bi-annual Mega Conference.  Conferences in past years have drawn roughly 500 attendees. With a special hotel room rate of $112.00 and an early bird rate of $250\, the Mega Conference is a bargain! \nLearn more here! \n
URL:http://wisconsin.ache.org/event/2020-mega-healthcare-conference/
LOCATION:1305 Kalahari Dr\, Wisconsin Dells\, WI\, 53965\, United States
ORGANIZER;CN="Mega%20Conference":MAILTO:mega@badgerbay.co
END:VEVENT
END:VCALENDAR