BEGIN:VCALENDAR
VERSION:2.0
PRODID:-//Wisconsin Chapter of the American College of Healthcare Executives - ECPv4.6.15//NONSGML v1.0//EN
CALSCALE:GREGORIAN
METHOD:PUBLISH
X-WR-CALNAME:Wisconsin Chapter of the American College of Healthcare Executives
X-ORIGINAL-URL:http://wisconsin.ache.org
X-WR-CALDESC:Events for Wisconsin Chapter of the American College of Healthcare Executives
BEGIN:VEVENT
DTSTART;TZID=UTC-6:20201113T110000
DTEND;TZID=UTC-6:20201113T120000
DTSTAMP:20260423T220234
CREATED:20201024T112141Z
LAST-MODIFIED:20201111T145953Z
UID:3222-1605265200-1605268800@wisconsin.ache.org
SUMMARY:ACHE-WI 2020 Annual Meeting
DESCRIPTION:Join us to celebrate our 2020 accomplishments\, recognize our volunteers and look forward to 2021! \nREGISTER HERE\n
URL:http://wisconsin.ache.org/event/ache-wi-2020-annual-meeting/
ORGANIZER;CN="ACHE-Wisconsin%20Chapter":MAILTO:ACHE-WI@badgerbay.co
END:VEVENT
END:VCALENDAR