BEGIN:VCALENDAR
VERSION:2.0
PRODID:-//Wisconsin Chapter of the American College of Healthcare Executives - ECPv4.6.15//NONSGML v1.0//EN
CALSCALE:GREGORIAN
METHOD:PUBLISH
X-WR-CALNAME:Wisconsin Chapter of the American College of Healthcare Executives
X-ORIGINAL-URL:http://wisconsin.ache.org
X-WR-CALDESC:Events for Wisconsin Chapter of the American College of Healthcare Executives
BEGIN:VEVENT
DTSTART;TZID=UTC-6:20240820T173000
DTEND;TZID=UTC-6:20240820T190000
DTSTAMP:20260424T132908
CREATED:20240805T192438Z
LAST-MODIFIED:20240805T192538Z
UID:5149-1724175000-1724180400@wisconsin.ache.org
SUMMARY:ACHE-WI Mix & Mingle at Merriment Social (Milwaukee)
DESCRIPTION:Mix & Mingle at Merriment Social\nAttendance is complimentary\, but please register to reserve your spot. Register Here.\nJoin us in Milwaukee for an exciting networking social at Merriment Social! Following the panel\, ACHE-WI invites you to join us across the street to enjoy refreshing beverages and delicious offerings while mingling with fellow ACHE members. Don’t miss this opportunity to relax\, connect\, and expand your professional network. The social is free and open to all\, but space is limited. Register today to reserve your spot! Join us on Tuesday\, August 20\, 2024\, from 5:30 – 7:00 p.m. at Merriment Social\, located at 240 E Pittsburgh Ave\, Milwaukee\, WI 53204. \nDate: Tuesday\, August 20\, 2024\nTime: 5:30 – 7:00 p.m.\nLocation: Merriment Social (240 E Pittsburgh Ave\, Milwaukee\, WI 53204) \n  \nACHE-WI Milwaukee Panel\nWe invite you to join us before this event for our panel on “Improving the Health Status of Your Community.” Attendance is complimentary\, but please register to reserve your spot. Click here to register and learn more. \n  \nClick here to download our event flyer \n
URL:http://wisconsin.ache.org/event/ache-wi-mix-mingle-at-merriment-social-milwaukee/
LOCATION:240 E Pittsburgh Ave\, Milwaukee\, WI\, 53204
ORGANIZER;CN="ACHE-WI":MAILTO:ache-wi@badgerbay.co
END:VEVENT
END:VCALENDAR