BEGIN:VCALENDAR
VERSION:2.0
PRODID:-//Wisconsin Chapter of the American College of Healthcare Executives - ECPv4.6.15//NONSGML v1.0//EN
CALSCALE:GREGORIAN
METHOD:PUBLISH
X-WR-CALNAME:Wisconsin Chapter of the American College of Healthcare Executives
X-ORIGINAL-URL:http://wisconsin.ache.org
X-WR-CALDESC:Events for Wisconsin Chapter of the American College of Healthcare Executives
BEGIN:VEVENT
DTSTART;TZID=UTC-6:20231025T173000
DTEND;TZID=UTC-6:20231025T193000
DTSTAMP:20260422T210649
CREATED:20231002T193235Z
LAST-MODIFIED:20231019T182657Z
UID:4701-1698255000-1698262200@wisconsin.ache.org
SUMMARY:ACHE-WI Student Night
DESCRIPTION: Join us at ACHE-WI Student Night\, hosted by Premier Sponsor Husch Blackwell\, for an evening of networking and discovery. Connect with students and healthcare professionals\, sharing insights and exploring the world of healthcare management and administration. \nEvent Highlights: \nNetworking: Forge connections with students and healthcare leaders to expand your circle\, seek mentorship\, and explore career opportunities. \nLearn About ACHE-WI: Discover resources and opportunities for aspiring healthcare professionals\, charting a path to your successful career. \nFood and drinks will be provided. \nThis event is free\, but registration is required. \nClick Here to Register\n  \nAddress: \nHusch Blackwell\n511 North Broadway\, Suite 1100\nMilwaukee\, WI 53202 \nParking Instructions: \nThe parking structure is located on Broadway in the middle of the block on the west side of the street. At the kiosk\, enter your credit card (only charged if you exit without validation) or cell phone information to get into the structure. There are 4 HB Client spaces on the 3rd and 4th floors on the north end of the structure (left of the ramp leading up to the floor). Client spots are 33 – 36 on level 3\, and 94 – 97 on level 4.\nIf those spaces are not available\, park in any unreserved space located on the 3rd\, 4th or 5th floors. Take the structure elevator down to the 1st floor\, and the security guard will provide access to the 9th floor. Validation for parking will be provided. \n
URL:http://wisconsin.ache.org/event/ache-wi-student-night/
LOCATION:511 N Broadway\, Milwaukee\, WI\, 53202\, United States
ORGANIZER;CN="ACHE-WI":MAILTO:ache-wi@badgerbay.co
END:VEVENT
END:VCALENDAR