BEGIN:VCALENDAR
VERSION:2.0
PRODID:-//Wisconsin Chapter of the American College of Healthcare Executives - ECPv4.6.15//NONSGML v1.0//EN
CALSCALE:GREGORIAN
METHOD:PUBLISH
X-WR-CALNAME:Wisconsin Chapter of the American College of Healthcare Executives
X-ORIGINAL-URL:http://wisconsin.ache.org
X-WR-CALDESC:Events for Wisconsin Chapter of the American College of Healthcare Executives
BEGIN:VEVENT
DTSTART;TZID=UTC-6:20230727T030000
DTEND;TZID=UTC-6:20230727T163000
DTSTAMP:20260422T142722
CREATED:20230705T190827Z
LAST-MODIFIED:20230713T153212Z
UID:4620-1690426800-1690475400@wisconsin.ache.org
SUMMARY:La Crosse - Career Positioning Panel and Riverboat Cruise Networking Event
DESCRIPTION:Click here to register\nACHE-WI is hosting an education program on Career Positioning—Proactively Managing Your Professional Development\, Thursday\, July 27\, 2023 at the Charmant Hotel in La Crosse\, WI. Attendees of the program are eligible to earn credits for up to 1.5 education hours. Panel attendance is limited to 40\, so don’t wait to register. \nPanelists Inlcude: \n\nChet Doering\, DNP\, MBA\, RN – Director\, Recruitment & Talent Strategy Gundersen Health System\nMadalyn Hanson\, MHA – Operations Manager Mayo Clinic Health System\nTanner Holst\, MBA\, FACHE – Regional Chair of Administration – Southwest WI Mayo Clinic Health System\n\nPlease join us after the panel for our social on a La Crosse Queen riverboat cruise. The social is open to all\, you do not have to attend the panel beforehand\, but please be sure to register. \nThe full schedule of events is below:\nRegistration  2:30pm-3:00pm\nPanel  3:00pm-4:30pm\nBoat Cruise   5:30pm-7:30pm. Please arrive between 4:30pm-5:15pm to ensure you are on board before departure at 5:30pm. \n  \nAddresses: \nThe Charmant Hotel\n101 State Street\,\nLa Crosse\, WI 54601 \n  \nLa Crosse Queen Cruises\n405 Veterans Memorial Drive\nLa Crosse\, WI 54601 \n  \nQuestions? E-mail ACHE-WI@badgerbay.co \n
URL:http://wisconsin.ache.org/event/career-positioning-panel-la-crosse/
LOCATION:101 State Street\,  La Crosse\, WI\, 54601\, United States
ORGANIZER;CN="ACHE-WI":MAILTO:ache-wi@badgerbay.co
END:VEVENT
END:VCALENDAR