BEGIN:VCALENDAR
VERSION:2.0
PRODID:-//Wisconsin Chapter of the American College of Healthcare Executives - ECPv4.6.15//NONSGML v1.0//EN
CALSCALE:GREGORIAN
METHOD:PUBLISH
X-WR-CALNAME:Wisconsin Chapter of the American College of Healthcare Executives
X-ORIGINAL-URL:http://wisconsin.ache.org
X-WR-CALDESC:Events for Wisconsin Chapter of the American College of Healthcare Executives
BEGIN:VEVENT
DTSTART;TZID=UTC-6:20201008T120000
DTEND;TZID=UTC-6:20201008T133000
DTSTAMP:20260424T132847
CREATED:20200929T140550Z
LAST-MODIFIED:20200929T142232Z
UID:3148-1602158400-1602163800@wisconsin.ache.org
SUMMARY:Face-to-Face Virtual Event: Ethical Challenges in Healthcare Leadership
DESCRIPTION:Ethical challenges arise in all aspects of healthcare and service\, from the bedside to the boardroom. Hospital leaders and boards set the ethical compass of the organization by making decisions about priorities\, policies and resource allocation as they determine the best ways to meet the needs of their communities\, while respecting their staff and the populations they serve. Understanding the expanding paradigm of planning\, creating\, and maintaining an ethical healthcare organization is crucial to help identify strategies for implementing ethics initiatives within your own organization and how an organization has addressed ethical challenges. Healthcare leaders must “walk the talk” and demonstrate their commitment to ethics throughout their organization.\n \nSpeakers  \n\n\nRichard Kyte\, PhD\, Endowed Professor/Director\, DB Reinhart Institute for Ethics in Leadership\, Viterbo University\nTroy Lepien\, VP\, Business Integrity\, UW Health\nPaul Mueller\, MD\, MPH\, Regional Vice President\, Mayo Clinic Health System\nMark Repenshek\, PhD\, Vice President of Ethics and Church Relations\, Ascension\n\nFace-to-Face Credit\nThis event has been approved for 1.5 virtual Face-to-Face education hour(s).\n\nRegister Here\n\n\nThis is a member only event. Registration is a two step process.  \n\n\nRegister and pay.\nYou will be sent a link to register via the ACHE Learning Portal on the following business day. You will need to login to ache.org to complete this step.\n\n\nNote: We will not be sending out the second link until payment is received. Cost is $15.\n\n\n
URL:http://wisconsin.ache.org/event/face-to-face-virtual-event-ethical-challenges-in-healthcare-leadership/
ORGANIZER;CN="ACHE-Wisconsin%20Chapter":MAILTO:ACHE-WI@badgerbay.co
END:VEVENT
END:VCALENDAR