BEGIN:VCALENDAR
VERSION:2.0
PRODID:-//Wisconsin Chapter of the American College of Healthcare Executives - ECPv4.6.15//NONSGML v1.0//EN
CALSCALE:GREGORIAN
METHOD:PUBLISH
X-WR-CALNAME:Wisconsin Chapter of the American College of Healthcare Executives
X-ORIGINAL-URL:http://wisconsin.ache.org
X-WR-CALDESC:Events for Wisconsin Chapter of the American College of Healthcare Executives
BEGIN:VEVENT
DTSTART;TZID=UTC-6:20211208T160000
DTEND;TZID=UTC-6:20211208T170000
DTSTAMP:20260423T004609
CREATED:20210916T142724Z
LAST-MODIFIED:20211116T215623Z
UID:3834-1638979200-1638982800@wisconsin.ache.org
SUMMARY:Membership Discussion: Resiliency
DESCRIPTION:  \nGet ready for an interactive discussion on resiliency!  We will be breaking into small group discussions. Plan to have your camera on and network with other participants. Our discussion leader is Teresa Lindfors\, FACHE\, MBA\, RN\, Chief Strategy & Business Development Officer\, Stoughton Health. \nRegister Here\n
URL:http://wisconsin.ache.org/event/membership-discussion-resiliency/
END:VEVENT
END:VCALENDAR