BEGIN:VCALENDAR
VERSION:2.0
PRODID:-//Wisconsin Chapter of the American College of Healthcare Executives - ECPv4.6.15//NONSGML v1.0//EN
CALSCALE:GREGORIAN
METHOD:PUBLISH
X-WR-CALNAME:Wisconsin Chapter of the American College of Healthcare Executives
X-ORIGINAL-URL:http://wisconsin.ache.org
X-WR-CALDESC:Events for Wisconsin Chapter of the American College of Healthcare Executives
BEGIN:VEVENT
DTSTART;TZID=UTC-6:20230321T180000
DTEND;TZID=UTC-6:20230321T210000
DTSTAMP:20260422T161547
CREATED:20230214T160529Z
LAST-MODIFIED:20230224T153433Z
UID:4513-1679421600-1679432400@wisconsin.ache.org
SUMMARY:Mix and Mingle at ACHE Congress
DESCRIPTION:Registration is now open for the Mix and Mingle that will be held at the ACHE Congress in Chicago. Click here to register. \n  \n
URL:http://wisconsin.ache.org/event/mix-and-mingle-at-ache-congress/
LOCATION:65 E Wacker Pl\, Chicago\, IL\, 60601
ORGANIZER;CN="ACHE-WI":MAILTO:ache-wi@badgerbay.co
END:VEVENT
END:VCALENDAR