BEGIN:VCALENDAR
VERSION:2.0
PRODID:-//Wisconsin Chapter of the American College of Healthcare Executives - ECPv4.6.15//NONSGML v1.0//EN
CALSCALE:GREGORIAN
METHOD:PUBLISH
X-WR-CALNAME:Wisconsin Chapter of the American College of Healthcare Executives
X-ORIGINAL-URL:http://wisconsin.ache.org
X-WR-CALDESC:Events for Wisconsin Chapter of the American College of Healthcare Executives
BEGIN:VEVENT
DTSTART;TZID=UTC-6:20230224T120000
DTEND;TZID=UTC-6:20230224T133000
DTSTAMP:20260422T180247
CREATED:20230214T160232Z
LAST-MODIFIED:20230214T160245Z
UID:4510-1677240000-1677245400@wisconsin.ache.org
SUMMARY:Sustainability in Healthcare Institutions for the 21st Century Virtual Zoom F2F Program
DESCRIPTION:Register today for the MCACHE and ACHE-WI Chapter co-sponsored virtual Zoom Program:  http://bit.ly/3RpYk27 \n
URL:http://wisconsin.ache.org/event/sustainability-in-healthcare-institutions-for-the-21st-century-virtual-zoom-f2f-program/
ORGANIZER;CN="ACHE-Wisconsin%20Chapter":MAILTO:ACHE-WI@badgerbay.co
END:VEVENT
END:VCALENDAR