BEGIN:VCALENDAR
VERSION:2.0
PRODID:-//Wisconsin Chapter of the American College of Healthcare Executives - ECPv4.6.15//NONSGML v1.0//EN
CALSCALE:GREGORIAN
METHOD:PUBLISH
X-WR-CALNAME:Wisconsin Chapter of the American College of Healthcare Executives
X-ORIGINAL-URL:http://wisconsin.ache.org
X-WR-CALDESC:Events for Wisconsin Chapter of the American College of Healthcare Executives
BEGIN:VEVENT
DTSTART;VALUE=DATE:20221010
DTEND;VALUE=DATE:20221012
DTSTAMP:20260423T020921
CREATED:20220919T204638Z
LAST-MODIFIED:20220919T204638Z
UID:4426-1665360000-1665532799@wisconsin.ache.org
SUMMARY:Virtual Leadership Symposium
DESCRIPTION:We are facing unprecedented challenges and are called to innovate like never before. Attend virtually for actionable strategies to meet this moment. Register now and hear from Melissa Swift\, Nikkia Reveillac\, Kathy Gerwig\, Marvin R. O’Quinn and many more\, Oct. 10-11. \nEarn 6 Face to Face credits. \nRegister Here\n
URL:http://wisconsin.ache.org/event/virtual-leadership-symposium/
LOCATION:WI\, United States
END:VEVENT
END:VCALENDAR