BEGIN:VCALENDAR
VERSION:2.0
PRODID:-//Wisconsin Chapter of the American College of Healthcare Executives - ECPv4.6.15//NONSGML v1.0//EN
CALSCALE:GREGORIAN
METHOD:PUBLISH
X-WR-CALNAME:Wisconsin Chapter of the American College of Healthcare Executives
X-ORIGINAL-URL:http://wisconsin.ache.org
X-WR-CALDESC:Events for Wisconsin Chapter of the American College of Healthcare Executives
BEGIN:VEVENT
DTSTART;TZID=UTC-6:20220126T080000
DTEND;TZID=UTC-6:20220128T170000
DTSTAMP:20260423T152900
CREATED:20211123T160028Z
LAST-MODIFIED:20211123T160028Z
UID:3914-1643184000-1643389200@wisconsin.ache.org
SUMMARY:2022 Mega Conference
DESCRIPTION:The 2022 Mega Conference is a tremendous educational opportunity for Accounting\, Billing\, CEO\, CFO\, Clinic Office Managers\, Coding\, Collections\, Compliance Officers\, Customer Service\, Directors of Patient Accounts\, Patient Accounts Managers\, Finance\, IT Staff\, Materials Managers\, Privacy Officers\, Registration\, and many others. \nIt allows you to network with fellow associates\, learn from industry speakers\, and meet business associates from many different industries. This will be the ninth bi-annual Mega Conference.  Conferences in past years have drawn roughly 500 attendees. \nSafety Plans\nThe Mega Conference Committee continues to monitor the status of the COVID-19 pandemic and best practices for safely meeting in-person. We are excited to offer an opportunity to meet in person\, and plan to do this as safely as possible\, working closely with the Kalahari Resort and Convention Center. Please visit the Kalahari website to view their current health and safety guidelines. All attendees\, business partners\, sponsors and staff are encouraged to follow the most conservative guidelines available from leading global and local health authorities. These guidelines include vaccination\, social distancing\, wearing a mask\, frequent hand washing\, covering coughs and sneezes and staying home when appropriate or when sick.\n \nThree weeks prior to the event\, the Mega Conference committee will share its final safety protocols based on the current situation at that time.\n \n  \n
URL:http://wisconsin.ache.org/event/2022-mega-conference/
LOCATION:1305 Kalahari Dr\, Wisconsin Dells\, WI\, 53965\, United States
ORGANIZER;CN="Mega%20Conference":MAILTO:mega@badgerbay.co
END:VEVENT
END:VCALENDAR