BEGIN:VCALENDAR
VERSION:2.0
PRODID:-//Wisconsin Chapter of the American College of Healthcare Executives - ECPv4.6.15//NONSGML v1.0//EN
CALSCALE:GREGORIAN
METHOD:PUBLISH
X-WR-CALNAME:Wisconsin Chapter of the American College of Healthcare Executives
X-ORIGINAL-URL:http://wisconsin.ache.org
X-WR-CALDESC:Events for Wisconsin Chapter of the American College of Healthcare Executives
BEGIN:VEVENT
DTSTART;TZID=UTC-6:20220728T170000
DTEND;TZID=UTC-6:20220728T190000
DTSTAMP:20260423T063253
CREATED:20220712T190148Z
LAST-MODIFIED:20220712T190259Z
UID:4279-1659027600-1659034800@wisconsin.ache.org
SUMMARY:Mix & Mingle in Wausau
DESCRIPTION:  \nJoin us at the Jefferson Street Inn for our FREE Mix & Mingle networking event in Wausau! It is a free event for members and non-members so feel free to invite a colleague. \nWhat to Expect\nNetworking\nCatch up with your colleagues and peers \nRefreshments\nEnjoy light appetizers and refreshments  \n  \n
URL:http://wisconsin.ache.org/event/mix-mingle-in-wausau/
LOCATION:201 Jefferson Street\, Wausau\, WI\, 54403\, United States
ORGANIZER;CN="ACHE-Wisconsin%20Chapter":MAILTO:ACHE-WI@badgerbay.co
END:VEVENT
END:VCALENDAR