BEGIN:VCALENDAR
VERSION:2.0
PRODID:-//Wisconsin Chapter of the American College of Healthcare Executives - ECPv4.6.15//NONSGML v1.0//EN
CALSCALE:GREGORIAN
METHOD:PUBLISH
X-WR-CALNAME:Wisconsin Chapter of the American College of Healthcare Executives
X-ORIGINAL-URL:http://wisconsin.ache.org
X-WR-CALDESC:Events for Wisconsin Chapter of the American College of Healthcare Executives
BEGIN:VEVENT
DTSTART;TZID=UTC-6:20220919T070000
DTEND;TZID=UTC-6:20220921T113000
DTSTAMP:20260423T033505
CREATED:20211216T210946Z
LAST-MODIFIED:20220914T180736Z
UID:3934-1663570800-1663759800@wisconsin.ache.org
SUMMARY:ACHE-WI 2022 Annual Conference
DESCRIPTION:  \n \n  \n \n \n\n\nRegistration Rates\nACHE Members\n\nFull conference $500\nMonday $225\nTuesday $225\nWednesday (1/2 day) $175\n\nNon-Members\n\nFull conference $800\nMonday $325\nTuesday $325\nWednesday (1/2 day) $250\n\nLodging\nRooms are available at The Osthoff Resort at a special group rate of $181 per night. To make a reservation\, please contact The Osthoff Resort at 800-876-3399 and request the American College of Health Care Executives – Wisconsin Chapter room block. \nCancellation Policy\nCancellations received on or before August 26\, 2022 will be subject to a $50 cancellation fee. No refunds will be given after August 26\, 2022. Cancellations must be received in writing at ACHE-WI@badgerbay.co \nSafety Reminders \nThe American College of Healthcare Executives – Wisconsin Chapter continues to monitor the status of the COVID-19 pandemic and best practices for safely meeting in-person. We are excited to offer an opportunity to meet in person\, and plan to do this as safely as possible\, working closely with The Osthoff Resort. Please visit The Osthoff Resort website to view their current health and safety guidelines. All attendees\, speakers\, business partners\, sponsors and staff are encouraged to follow the most conservative guidelines available from leading global and local health authorities. These guidelines include vaccination\, social distancing\, wearing a mask\, frequent hand washing\, covering coughs and sneezes and staying home when appropriate or when sick. \n
URL:http://wisconsin.ache.org/event/ache-wi-2022-annual-conference/
LOCATION:101 Osthoff Ave\, Elkhart Lake\, WI\, 53020\, United States
ORGANIZER;CN="ACHE-Wisconsin%20Chapter":MAILTO:ACHE-WI@badgerbay.co
END:VEVENT
END:VCALENDAR