BEGIN:VCALENDAR
VERSION:2.0
PRODID:-//Wisconsin Chapter of the American College of Healthcare Executives - ECPv4.6.15//NONSGML v1.0//EN
CALSCALE:GREGORIAN
METHOD:PUBLISH
X-WR-CALNAME:Wisconsin Chapter of the American College of Healthcare Executives
X-ORIGINAL-URL:http://wisconsin.ache.org
X-WR-CALDESC:Events for Wisconsin Chapter of the American College of Healthcare Executives
BEGIN:VEVENT
DTSTART;TZID=UTC-6:20220928T120000
DTEND;TZID=UTC-6:20221026T133000
DTSTAMP:20260423T021216
CREATED:20220902T164714Z
LAST-MODIFIED:20220912T160835Z
UID:4382-1664366400-1666791000@wisconsin.ache.org
SUMMARY:Master Class of Career Management
DESCRIPTION:  \n  \n  \nWEBINAR #1 – September 28\, noon\nEverything I learned about leadership came after I was done being a leader\nRobert De Vita\, Adjunct Faculty/Lecturer\, UWM Lubar School of Business EMBA \n\nHow we build your EHR. NOT the electronic health record! Rather building kinship through Empathy Humility (not Hubris) & Resiliency. Think: Band of Brothers (Shakespeare’s Henry V\, HBO series\, Joan of Arc).\n\nWEBINAR #2 – October 6\, noon\nActively investing in your personal/leadership development\nAnissa Perkins\, Assistant Director Leadership Development Field & Talent Performance\, Northwest Mutual \n\nIt’s not that professionals don’t want to own their development\, many times they aren’t sure where to begin or how. In this session Anissa will discuss the differences between personal & professional development (if there are any) and share how to develop a learning strategy that will produce maximum ROI.\n\nLeading and Leadership: Necessary Skills for Different Levels of Leadership\nAndy Hillig\, PCC\, MBA\, FACHE\, Executive Coach\, LAK Group \n\nDeveloping leadership skills can help you increase certain professional qualities\, build and maintain relationships and increase your earning potential. There are many different skills and abilities needed at different levels of leadership. Learning about them may help you understand how to become a better leader in your workplace and advance your career.\n\nWEBINAR #3 – October 10\, noon\nLeadership and Emotional Intelligence Awareness\nShelley Smith\, MBA\, ACC\, Managing Director Leadership Practice\, LAK Group \n\nWhat is a Leadership Shadow? In general\, how self-aware are you? Join this session to revisit Leadership and Emotional Intelligence with a little different twist.\n\nWEBINAR #4 – October 19\, noon\nFinding Your Path: The Strategic Advantage of Taking the Road Less Traveled\nChet H. Doering III\, DNP\, MBA\, RN\, Director\, Recruitment and Talent Strategy\, Gundersen Health \n\nChet will provide an in-depth review of his own leadership journey from frontline RN to current Director of Recruitment and Talent Strategy at Gundersen Health System. Through a dynamic career journey\, Chet has looked to combine his clinical knowledge with formal business and nurse executive training. Through this presentation\, candidates will learn how to tap into their individual strengths and talents while strategically designing a rewarding and fulfilling career.\n\nNontraditional Healthcare Related Roles\nZach Ziesemer\, MBA\, Operations Manager\, Marshfield Clinic Health System \n\nRoles in healthcare are diverse and ever-changing\, and only continue to expand as organizations evolve to meet the increased market demands. If one thing holds true is that the anticipated linear progression and trajectory for one’s career doesn’t always follow a defined path. In this immersive presentation learn of nontraditional positions and how they can offer transferable skill sets that can be leveraged to support your professional and personal ambitions.\n\nWhy your goal should not be to go from mid-careerist to CEO\nBetsy Folbrecht\, Client Partner Executive\, Nordic Global \n\nDiscuss why career paths don’t always need to be a vertical journey and where diversifying your experience can allow for further growth and development than you might think.\n\nWEBINAR #5 – October 26\, noon\nLinkedIn is Your 24 Hour Brand\nLaura Parrino\, Senior Executive Career Consultant\, LAK Group \n\nA great profile will ensure that you’re always visible and ready for your next career step\, internally and externally. Your LinkedIn profile works for you while you’re working – answering algorithms\, collected and curated by talent professionals and experts in your world. You’ll learn the top 5 attributes of a magnetic profile that will attract what you need to be successful in your career.\n\nCareer Planning\nAndy Hillig\, PCC\, MBA\, FACHE\, Executive Coach\, LAK Group \n\nWe spend most of our lives at work.  So why did it take a pandemic to make 48 million people realize they were tired of showing up at work with “a case of the Mondays?” Over the course of this presentation\, you’ll learn how to be more deliberate about taking charge of your future.\n\nREGISTRATION\n\n$50  Members\n$75 Non-Members\n\nRegister once to attend all five webinars. Those that participate in all 5 webinars\, we be recognized at an award’s ceremony in November/December. Space is limited! \nREGISTER HERE\n
URL:http://wisconsin.ache.org/event/master-class-of-career-management/
LOCATION:WI\, United States
ORGANIZER;CN="ACHE-Wisconsin%20Chapter":MAILTO:ACHE-WI@badgerbay.co
END:VEVENT
BEGIN:VEVENT
DTSTART;TZID=UTC-6:20221025T073000
DTEND;TZID=UTC-6:20221025T080000
DTSTAMP:20260423T021216
CREATED:20220920T202526Z
LAST-MODIFIED:20220920T202733Z
UID:4435-1666683000-1666684800@wisconsin.ache.org
SUMMARY:ACHE-WI Coffee Mix & Mingle - Justice\, Equity\, Diversity\, Inclusion
DESCRIPTION:  \n  \nJoin us for a coffee chat about Justice\, Equity\, Diversity and Inclusion. This is a free virtual event. The discussion will be moderated by Jennifer T. Fink\, Ph.D.\, MS\, Associate Professor\, Department of Health Informatics and Administration\, College of Health Sciences\, University of Wisconsin Milwaukee. \nRegister Here\n
URL:http://wisconsin.ache.org/event/ache-wi-coffee-mix-mingle-justice-equity-diversity-inclusion/
LOCATION:WI\, United States
ORGANIZER;CN="ACHE-Wisconsin%20Chapter":MAILTO:ACHE-WI@badgerbay.co
END:VEVENT
END:VCALENDAR