BEGIN:VCALENDAR
VERSION:2.0
PRODID:-//Wisconsin Chapter of the American College of Healthcare Executives - ECPv4.6.15//NONSGML v1.0//EN
CALSCALE:GREGORIAN
METHOD:PUBLISH
X-WR-CALNAME:Wisconsin Chapter of the American College of Healthcare Executives
X-ORIGINAL-URL:http://wisconsin.ache.org
X-WR-CALDESC:Events for Wisconsin Chapter of the American College of Healthcare Executives
BEGIN:VEVENT
DTSTART;TZID=UTC-6:20221209T110000
DTEND;TZID=UTC-6:20221209T140000
DTSTAMP:20260422T225540
CREATED:20221128T201402Z
LAST-MODIFIED:20221128T201402Z
UID:4485-1670583600-1670594400@wisconsin.ache.org
SUMMARY:ACHE-Wisconsin Awards Lunch and Service Reception
DESCRIPTION:You are invited to join the ACHE-Wisconsin Board for celebration and service on Friday\, December 9.  This lunch event will feature the presentation of 2022 awards and conclude with a short service project and reception.  Those interested in participating\, but unable to attend in-person are welcome to join online for the awards presentation.   A link will be sent in advance to those wishing to attend virtually. This event is free to all members. Please RSVP here. \nSchedule of Events \n\n11am-11:30am – Registration\n11:30am-12:30pm – Lunch and Presentation of Regent Awards\n12:30pm-2:00pm – Social and Service project (open to members)\n\n
URL:http://wisconsin.ache.org/event/ache-wisconsin-awards-lunch-and-service-reception/
LOCATION:511 N Broadway\, Milwaukee\, WI\, 53202\, United States
ORGANIZER;CN="ACHE-Wisconsin%20Chapter":MAILTO:ACHE-WI@badgerbay.co
END:VEVENT
END:VCALENDAR