BEGIN:VCALENDAR
VERSION:2.0
PRODID:-//Wisconsin Chapter of the American College of Healthcare Executives - ECPv4.6.15//NONSGML v1.0//EN
CALSCALE:GREGORIAN
METHOD:PUBLISH
X-WR-CALNAME:Wisconsin Chapter of the American College of Healthcare Executives
X-ORIGINAL-URL:http://wisconsin.ache.org
X-WR-CALDESC:Events for Wisconsin Chapter of the American College of Healthcare Executives
BEGIN:VEVENT
DTSTART;TZID=UTC-6:20240326T180000
DTEND;TZID=UTC-6:20240326T200000
DTSTAMP:20260423T032009
CREATED:20240115T181330Z
LAST-MODIFIED:20240305T190651Z
UID:4805-1711476000-1711483200@wisconsin.ache.org
SUMMARY:ACHE-WI Mix & Mingle at Congress
DESCRIPTION:Join us after Congress for an evening of food and fun\, hosted by ACHE-WI . Join us at the vibrant Lizzie McNeill’s mix and mingle with fellow ACHE members. \nSavor the moment with a selection of delectable appetizers and refreshing drinks provided to elevate your social experience. This is more than just an event; it’s an invitation to connect\, share\, and build lasting relationships within the ACHE community. \nThank you to our event sponsor\, University of Wisconsin-Milwaukee for making this event possible! \nDon’t miss out on this unforgettable gathering! We hope to see you there! \nRegister Here\nEmail ache-wi@badgerbay.co for questions. \n
URL:http://wisconsin.ache.org/event/ache-wi-and-ache-mn-mix-mingle-at-congress/
LOCATION:400 N McClurg Ct\, Chicago\, IL\, 60611
ORGANIZER;CN="ACHE-WI":MAILTO:ache-wi@badgerbay.co
END:VEVENT
END:VCALENDAR